BEGIN:VCALENDAR
VERSION:2.0
PRODID:-//mrlib.org//NONSGML kigkonsult.se iCalcreator 2.30.10//
CALSCALE:GREGORIAN
METHOD:PUBLISH
UID:1a7c18b5-2000-4b65-a0ec-b1146e1c28f5
X-WR-CALDESC:All ages: want to create a compost indoors? An expert from the
  Central Shenandoah Valley Master Gardeners will teach us all about vermic
 omposting - a method that uses earthworms to break down food scraps into n
 utrient-rich fertilizer!\n\nThis class will take away any confusion and sh
 ow you the science behind it all! You will leave prepared to keep your com
 post indoors with a vermicomposting bin and all the knowledge you need to 
 successfully create rich compost.\n\nPlease note: anyone under the age of 
 18 must be accompanied by a guardian.
X-WR-RELCALID:6877aa8379937fe8d67d48a5f429b8b0
X-WR-TIMEZONE:America/New_York
BEGIN:VTIMEZONE
TZID:America/New_York
BEGIN:STANDARD
TZNAME:EST
DTSTART:20251102T020000
TZOFFSETFROM:-0400
TZOFFSETTO:-0500
RDATE:20261101T020000
RDATE:20271107T020000
END:STANDARD
BEGIN:DAYLIGHT
TZNAME:EDT
DTSTART:20260308T020000
TZOFFSETFROM:-0500
TZOFFSETTO:-0400
RDATE:20270314T020000
END:DAYLIGHT
END:VTIMEZONE
BEGIN:VEVENT
UID:8ffcd4b8-aebb-42a4-bae8-bf8c1a780de7
DTSTAMP:20260419T130345Z
DESCRIPTION:All ages: want to create a compost indoors? An expert from the 
 Central Shenandoah Valley Master Gardeners will teach us all about vermico
 mposting - a method that uses earthworms to break down food scraps into nu
 trient-rich fertilizer!\n\nThis class will take away any confusion and sho
 w you the science behind it all! You will leave prepared to keep your comp
 ost indoors with a vermicomposting bin and all the knowledge you need to s
 uccessfully create rich compost.\n\nPlease note: anyone under the age of 1
 8 must be accompanied by a guardian.
DTSTART;TZID=America/New_York:20260613T110000
DTEND;TZID=America/New_York:20260613T120000
LOCATION:North River Library\, 118 Mt. Crawford Ave.\, Bridgewater\, VA 228
 12 US
SUMMARY:Worm Wonders @North River Library
END:VEVENT
END:VCALENDAR
