BEGIN:VCALENDAR
VERSION:2.0
PRODID:-//mrlib.org//NONSGML kigkonsult.se iCalcreator 2.30.10//
CALSCALE:GREGORIAN
METHOD:PUBLISH
UID:3f4171ca-78d0-4f61-94eb-8077a3a4a03f
X-WR-CALDESC:Kids (ages 0-5): Join us for a morning of fun as Miss Stephani
  leads a garden-themed Story Time! Afterward\, a member of the Northern Sh
 enandoah Valley Master Gardener Association will lead a short tour of the 
 community garden at Page Memorial Hospital.
X-WR-RELCALID:5bfdf8b5b1767f77b0985493ad42dbe6
X-WR-TIMEZONE:America/New_York
BEGIN:VTIMEZONE
TZID:America/New_York
BEGIN:STANDARD
TZNAME:EST
DTSTART:20251102T020000
TZOFFSETFROM:-0400
TZOFFSETTO:-0500
RDATE:20261101T020000
RDATE:20271107T020000
END:STANDARD
BEGIN:DAYLIGHT
TZNAME:EDT
DTSTART:20260308T020000
TZOFFSETFROM:-0500
TZOFFSETTO:-0400
RDATE:20270314T020000
END:DAYLIGHT
END:VTIMEZONE
BEGIN:VEVENT
UID:50910ab8-9588-469a-9c3a-728ef784afc5
DTSTAMP:20260419T132452Z
DESCRIPTION:Kids (ages 0-5): Join us for a morning of fun as Miss Stephani 
 leads a garden-themed Story Time! Afterward\, a member of the Northern She
 nandoah Valley Master Gardener Association will lead a short tour of the c
 ommunity garden at Page Memorial Hospital.
DTSTART;TZID=America/New_York:20260615T090000
DTEND;TZID=America/New_York:20260615T100000
LOCATION:Page Memorial Hospital\, 200 Memorial Dr\, Luray\, VA 22835 US
SUMMARY:Community Garden Story Time @Page Memorial Hospital
END:VEVENT
END:VCALENDAR
