BEGIN:VCALENDAR
VERSION:2.0
PRODID:-//mrlib.org//NONSGML kigkonsult.se iCalcreator 2.30.10//
CALSCALE:GREGORIAN
METHOD:PUBLISH
UID:8ba3e16d-d40a-4db6-94db-2ed14cb56342
X-WR-CALDESC:Children of all ages can enjoy books and songs with players fr
 om the Harrisonburg Turks baseball team! Bring your baseball and autograph
  book to collect signatures.
X-WR-RELCALID:915f0a2e5ff02e1efd4077abed7a2950
X-WR-TIMEZONE:America/New_York
BEGIN:VTIMEZONE
TZID:America/New_York
BEGIN:STANDARD
TZNAME:EST
DTSTART:20251102T020000
TZOFFSETFROM:-0400
TZOFFSETTO:-0500
RDATE:20261101T020000
RDATE:20271107T020000
END:STANDARD
BEGIN:DAYLIGHT
TZNAME:EDT
DTSTART:20260308T020000
TZOFFSETFROM:-0500
TZOFFSETTO:-0400
RDATE:20270314T020000
END:DAYLIGHT
END:VTIMEZONE
BEGIN:VEVENT
UID:7f189256-4ccb-4479-99b5-aaaaa4d75491
DTSTAMP:20260419T132550Z
DESCRIPTION:Children of all ages can enjoy books and songs with players fro
 m the Harrisonburg Turks baseball team! Bring your baseball and autograph 
 book to collect signatures.
DTSTART;TZID=America/New_York:20260617T100000
DTEND;TZID=America/New_York:20260617T103000
LOCATION:Grottoes Branch Library\, 601 Dogwood Avenue\, Grottoes\, VA 24441
  US
SUMMARY:Story Time with the Harrisonburg Turks @Grottoes Branch Library
END:VEVENT
END:VCALENDAR
