BEGIN:VCALENDAR
VERSION:2.0
PRODID:-//mrlib.org//NONSGML kigkonsult.se iCalcreator 2.30.10//
CALSCALE:GREGORIAN
METHOD:PUBLISH
UID:6572e588-d066-4bf1-b8a6-b45a1c537a65
X-WR-CALDESC:Children of all ages can enjoy reading\, singing\, and dancing
  with the Chick-fil-A cow! Bring your camera for a chance to take a pictur
 e with the cow.
X-WR-RELCALID:d90a1e586580a2f02f328fe5beb3872e
X-WR-TIMEZONE:America/New_York
BEGIN:VTIMEZONE
TZID:America/New_York
BEGIN:STANDARD
TZNAME:EST
DTSTART:20251102T020000
TZOFFSETFROM:-0400
TZOFFSETTO:-0500
RDATE:20261101T020000
RDATE:20271107T020000
END:STANDARD
BEGIN:DAYLIGHT
TZNAME:EDT
DTSTART:20260308T020000
TZOFFSETFROM:-0500
TZOFFSETTO:-0400
RDATE:20270314T020000
END:DAYLIGHT
END:VTIMEZONE
BEGIN:VEVENT
UID:7248a81b-2d0a-4a1a-9c0e-7cfff4fec0eb
DTSTAMP:20260419T132551Z
DESCRIPTION:Children of all ages can enjoy reading\, singing\, and dancing 
 with the Chick-fil-A cow! Bring your camera for a chance to take a picture
  with the cow.
DTSTART;TZID=America/New_York:20260618T100000
DTEND;TZID=America/New_York:20260618T103000
LOCATION:Village Library\, 175 N. Main Street\, Broadway\, VA 22815 US
SUMMARY:Story Time with the Chick-fil-A Cow @Village Library
END:VEVENT
END:VCALENDAR
