BEGIN:VCALENDAR
VERSION:2.0
PRODID:-//mrlib.org//NONSGML kigkonsult.se iCalcreator 2.30.10//
CALSCALE:GREGORIAN
METHOD:PUBLISH
UID:db670138-07d2-428e-8ec2-69e06af7c278
X-WR-CALDESC:Children of all ages can enjoy books and songs with players fr
 om the Harrisonburg Turks baseball team! Bring your baseball and autograph
  book to collect signatures.
X-WR-RELCALID:1f2834321b6c15385a1d01fee01f3104
X-WR-TIMEZONE:America/New_York
BEGIN:VTIMEZONE
TZID:America/New_York
BEGIN:STANDARD
TZNAME:EST
DTSTART:20251102T020000
TZOFFSETFROM:-0400
TZOFFSETTO:-0500
RDATE:20261101T020000
RDATE:20271107T020000
END:STANDARD
BEGIN:DAYLIGHT
TZNAME:EDT
DTSTART:20260308T020000
TZOFFSETFROM:-0500
TZOFFSETTO:-0400
RDATE:20270314T020000
END:DAYLIGHT
END:VTIMEZONE
BEGIN:VEVENT
UID:71bf9915-3a72-45e1-8d4b-98571f083d3b
DTSTAMP:20260419T132415Z
DESCRIPTION:Children of all ages can enjoy books and songs with players fro
 m the Harrisonburg Turks baseball team! Bring your baseball and autograph 
 book to collect signatures.
DTSTART;TZID=America/New_York:20260618T110000
DTEND;TZID=America/New_York:20260618T113000
LOCATION:Central Library\, 174 S. Main St.\, Harrisonburg\, VA 22801 US
SUMMARY:Story Time with the Harrisonburg Turks @Central Library
END:VEVENT
END:VCALENDAR
