BEGIN:VCALENDAR
VERSION:2.0
PRODID:-//mrlib.org//NONSGML kigkonsult.se iCalcreator 2.30.10//
CALSCALE:GREGORIAN
METHOD:PUBLISH
UID:5f0bdd61-5bcf-4942-af76-ee190c9b7b14
X-WR-CALDESC:Kids (ages K-5th grade): Come learn about our prehistoric frie
 nds through this STEM program! You will make a salt dough fossil\, dig for
  dino bones\, and make your very own dinosaur egg!
X-WR-RELCALID:ad56c56282876649dd668770d389ff38
X-WR-TIMEZONE:America/New_York
BEGIN:VTIMEZONE
TZID:America/New_York
BEGIN:STANDARD
TZNAME:EST
DTSTART:20251102T020000
TZOFFSETFROM:-0400
TZOFFSETTO:-0500
RDATE:20261101T020000
RDATE:20271107T020000
END:STANDARD
BEGIN:DAYLIGHT
TZNAME:EDT
DTSTART:20260308T020000
TZOFFSETFROM:-0500
TZOFFSETTO:-0400
RDATE:20270314T020000
END:DAYLIGHT
END:VTIMEZONE
BEGIN:VEVENT
UID:21da207c-ddbf-43ba-b1de-c16ab7c47be6
DTSTAMP:20260419T130345Z
DESCRIPTION:Kids (ages K-5th grade): Come learn about our prehistoric frien
 ds through this STEM program! You will make a salt dough fossil\, dig for 
 dino bones\, and make your very own dinosaur egg!
DTSTART;TZID=America/New_York:20260618T150000
DTEND;TZID=America/New_York:20260618T160000
LOCATION:Shenandoah Community Library\, 418 S. Third Street\, Shenandoah\, 
 VA 22849 US
SUMMARY:Dinosaur Science @Shenandoah Community Library
END:VEVENT
END:VCALENDAR
