BEGIN:VCALENDAR
VERSION:2.0
PRODID:-//mrlib.org//NONSGML kigkonsult.se iCalcreator 2.30.10//
CALSCALE:GREGORIAN
METHOD:PUBLISH
UID:0fa8454c-d99d-4936-b2d9-614d6041b1b8
X-WR-CALDESC:Kids (K-5): Come and discover a world of fun archaeological ac
 tivities with interpretive staff from the Frontier Culture Museum!
X-WR-RELCALID:1f36a8bc541af33779e539049b94bbc0
X-WR-TIMEZONE:America/New_York
BEGIN:VTIMEZONE
TZID:America/New_York
BEGIN:STANDARD
TZNAME:EST
DTSTART:20251102T020000
TZOFFSETFROM:-0400
TZOFFSETTO:-0500
RDATE:20261101T020000
RDATE:20271107T020000
END:STANDARD
BEGIN:DAYLIGHT
TZNAME:EDT
DTSTART:20260308T020000
TZOFFSETFROM:-0500
TZOFFSETTO:-0400
RDATE:20270314T020000
END:DAYLIGHT
END:VTIMEZONE
BEGIN:VEVENT
UID:a0811478-3aa6-4029-a283-4b302ab571fc
DTSTAMP:20260419T124921Z
DESCRIPTION:Kids (K-5): Come and discover a world of fun archaeological act
 ivities with interpretive staff from the Frontier Culture Museum!
DTSTART;TZID=America/New_York:20260620T130000
DTEND;TZID=America/New_York:20260620T143000
LOCATION:Central Library\, 174 S. Main Street\, Harrisonburg\, VA 22801 US
SUMMARY:Archaeology with the Frontier Culture Museum @Central Library
END:VEVENT
END:VCALENDAR
