BEGIN:VCALENDAR
VERSION:2.0
PRODID:-//mrlib.org//NONSGML kigkonsult.se iCalcreator 2.30.10//
CALSCALE:GREGORIAN
METHOD:PUBLISH
UID:0e425f5e-2675-4fd0-b14b-c8c531585ed1
X-WR-CALDESC:Children of all ages can enjoy reading\, singing\, and dancing
  with the Chick-fil-A cow! Bring your camera for a chance to take a pictur
 e with the cow.
X-WR-RELCALID:4207d35be58dcd5b7a2a6434c666a9b8
X-WR-TIMEZONE:America/New_York
BEGIN:VTIMEZONE
TZID:America/New_York
BEGIN:STANDARD
TZNAME:EST
DTSTART:20251102T020000
TZOFFSETFROM:-0400
TZOFFSETTO:-0500
RDATE:20261101T020000
RDATE:20271107T020000
END:STANDARD
BEGIN:DAYLIGHT
TZNAME:EDT
DTSTART:20260308T020000
TZOFFSETFROM:-0500
TZOFFSETTO:-0400
RDATE:20270314T020000
END:DAYLIGHT
END:VTIMEZONE
BEGIN:VEVENT
UID:74a43ece-a529-44e1-9ffc-1225fd8abd46
DTSTAMP:20260419T124921Z
DESCRIPTION:Children of all ages can enjoy reading\, singing\, and dancing 
 with the Chick-fil-A cow! Bring your camera for a chance to take a picture
  with the cow.
DTSTART;TZID=America/New_York:20260622T103000
DTEND;TZID=America/New_York:20260622T110000
LOCATION:Elkton Community Library\, 106 N. Terrace Avenue\, Elkton\, VA 228
 27 US
SUMMARY:Story Time with the Chick-fil-A Cow @Elkton Community Library
END:VEVENT
END:VCALENDAR
