BEGIN:VCALENDAR
VERSION:2.0
PRODID:-//mrlib.org//NONSGML kigkonsult.se iCalcreator 2.30.10//
CALSCALE:GREGORIAN
METHOD:PUBLISH
UID:263dafee-34a5-4fd6-98c7-0547cd5ace50
X-WR-CALDESC:Kids (ages 0-5): Join us for a morning of fun as Miss Stephani
  leads a garden-themed Story Time! Afterward\, a member of the Northern Sh
 enandoah Valley Master Gardener Association will lead a short tour around 
 the community garden.
X-WR-RELCALID:b9b62682585a3e9bab1ac02f4721abe0
X-WR-TIMEZONE:America/New_York
BEGIN:VTIMEZONE
TZID:America/New_York
BEGIN:STANDARD
TZNAME:EST
DTSTART:20251102T020000
TZOFFSETFROM:-0400
TZOFFSETTO:-0500
RDATE:20261101T020000
RDATE:20271107T020000
END:STANDARD
BEGIN:DAYLIGHT
TZNAME:EDT
DTSTART:20260308T020000
TZOFFSETFROM:-0500
TZOFFSETTO:-0400
RDATE:20270314T020000
END:DAYLIGHT
END:VTIMEZONE
BEGIN:VEVENT
UID:51028e85-9add-4949-aa6b-6bb7ed60ee16
DTSTAMP:20260419T125156Z
DESCRIPTION:Kids (ages 0-5): Join us for a morning of fun as Miss Stephani 
 leads a garden-themed Story Time! Afterward\, a member of the Northern She
 nandoah Valley Master Gardener Association will lead a short tour around t
 he community garden.
DTSTART;TZID=America/New_York:20260623T090000
DTEND;TZID=America/New_York:20260623T100000
LOCATION:Valley Health Family Medicine\, 505 Williams Ave.\, Shenandoah\, V
 A 22849 US
SUMMARY:Community Garden Story Time @Valley Health Family Medicine
END:VEVENT
END:VCALENDAR
