BEGIN:VCALENDAR
VERSION:2.0
PRODID:-//mrlib.org//NONSGML kigkonsult.se iCalcreator 2.30.10//
CALSCALE:GREGORIAN
METHOD:PUBLISH
UID:d49038ed-c2b7-473a-aa26-bec0b1e89c96
X-WR-CALDESC:Kids and teens ages 10-17: Learn to embroider as you create a 
 cowgirl boot on a mini canvas in a 3-inch hoop!\n\nSpace is limited\, so c
 lick 'Register Now' to save your spot!
X-WR-RELCALID:ba525e24c538f87b924ddef046f32699
X-WR-TIMEZONE:America/New_York
BEGIN:VTIMEZONE
TZID:America/New_York
BEGIN:STANDARD
TZNAME:EST
DTSTART:20251102T020000
TZOFFSETFROM:-0400
TZOFFSETTO:-0500
RDATE:20261101T020000
RDATE:20271107T020000
END:STANDARD
BEGIN:DAYLIGHT
TZNAME:EDT
DTSTART:20260308T020000
TZOFFSETFROM:-0500
TZOFFSETTO:-0400
RDATE:20270314T020000
END:DAYLIGHT
END:VTIMEZONE
BEGIN:VEVENT
UID:3ec77a5e-cd20-4a19-8022-67d4daea3a9c
DTSTAMP:20260419T125109Z
DESCRIPTION:Kids and teens ages 10-17: Learn to embroider as you create a c
 owgirl boot on a mini canvas in a 3-inch hoop!\n\nSpace is limited\, so cl
 ick 'Register Now' to save your spot!
DTSTART;TZID=America/New_York:20260623T170000
DTEND;TZID=America/New_York:20260623T180000
LOCATION:Shenandoah Community Library\, 418 S. Third Street\, Shenandoah\, 
 VA 22849 US
SUMMARY:Kids' Stitching: Learn to Embroider a Cowgirl Boot @Shenandoah Comm
 unity Library
END:VEVENT
END:VCALENDAR
