BEGIN:VCALENDAR
VERSION:2.0
PRODID:-//mrlib.org//NONSGML kigkonsult.se iCalcreator 2.30.10//
CALSCALE:GREGORIAN
METHOD:PUBLISH
UID:eba11c9a-8b55-4380-b8c0-80b5fa9270f7
X-WR-CALDESC:School age children: come learn about stones native to Virgini
 a with Rich Ruozzi\, co-owner of Horizon Gifts and Board Games!
X-WR-RELCALID:49062262eae60c548166044095190a2b
X-WR-TIMEZONE:America/New_York
BEGIN:VTIMEZONE
TZID:America/New_York
BEGIN:STANDARD
TZNAME:EST
DTSTART:20251102T020000
TZOFFSETFROM:-0400
TZOFFSETTO:-0500
RDATE:20261101T020000
RDATE:20271107T020000
END:STANDARD
BEGIN:DAYLIGHT
TZNAME:EDT
DTSTART:20260308T020000
TZOFFSETFROM:-0500
TZOFFSETTO:-0400
RDATE:20270314T020000
END:DAYLIGHT
END:VTIMEZONE
BEGIN:VEVENT
UID:57e2b53e-932b-4975-9f1d-b3c84b909d23
DTSTAMP:20260419T124948Z
DESCRIPTION:School age children: come learn about stones native to Virginia
  with Rich Ruozzi\, co-owner of Horizon Gifts and Board Games!
DTSTART;TZID=America/New_York:20260623T160000
DTEND;TZID=America/New_York:20260623T170000
LOCATION:Village Library\, 175 N. Main Street\, Broadway\, VA 22815 US
SUMMARY:Virginia Stones @Village Library
END:VEVENT
END:VCALENDAR
