BEGIN:VCALENDAR
VERSION:2.0
PRODID:-//mrlib.org//NONSGML kigkonsult.se iCalcreator 2.30.10//
CALSCALE:GREGORIAN
METHOD:PUBLISH
UID:2b323109-8bc9-40e4-97c8-b4c87b010901
X-WR-CALDESC:Children of all ages and their caregivers: Join us for stories
  under the trees with Mr. Randy at the Family Garden in the Edith J. Carri
 er Arboretum!
X-WR-RELCALID:429842616fa11f0f06718efa534c2c89
X-WR-TIMEZONE:America/New_York
BEGIN:VTIMEZONE
TZID:America/New_York
BEGIN:STANDARD
TZNAME:EST
DTSTART:20251102T020000
TZOFFSETFROM:-0400
TZOFFSETTO:-0500
RDATE:20261101T020000
RDATE:20271107T020000
END:STANDARD
BEGIN:DAYLIGHT
TZNAME:EDT
DTSTART:20260308T020000
TZOFFSETFROM:-0500
TZOFFSETTO:-0400
RDATE:20270314T020000
END:DAYLIGHT
END:VTIMEZONE
BEGIN:VEVENT
UID:9644eb03-dd25-476c-90f9-8832eb7a8885
DTSTAMP:20260419T125049Z
DESCRIPTION:Children of all ages and their caregivers: Join us for stories 
 under the trees with Mr. Randy at the Family Garden in the Edith J. Carrie
 r Arboretum!
DTSTART;TZID=America/New_York:20260624T100000
DTEND;TZID=America/New_York:20260624T103000
LOCATION:Edith J. Carrier Arboretum\, 780 University Blvd\, Harrisonburg\, 
 VA 22807 US
SUMMARY:Story Time in the Understory @Edith J. Carrier Arboretum
END:VEVENT
END:VCALENDAR
