BEGIN:VCALENDAR
VERSION:2.0
PRODID:-//mrlib.org//NONSGML kigkonsult.se iCalcreator 2.30.10//
CALSCALE:GREGORIAN
METHOD:PUBLISH
UID:ad0c5cbc-0cd8-468a-811f-701097367838
X-WR-CALDESC:Kids of all ages: Come beat the heat while writing a letter or
  card! Whether you're just learning to write\, want to practice your handw
 riting or cursive skills\, or even practice typing a letter\, we'll provid
 e what you need to have fun writing! If you do not have someone to write t
 o\, feel free to write a card or letter 'from a library friend\,' and we'l
 l deliver cards and letters to Page One right here in Shenandoah to be sha
 red in the community.\n\nJoin us every other Thursday until August 20 for 
 this fun opportunity to practice your letter writing skills!
X-WR-RELCALID:bc738f0ec7e9d31e61dbc49ef4293098
X-WR-TIMEZONE:America/New_York
BEGIN:VTIMEZONE
TZID:America/New_York
BEGIN:STANDARD
TZNAME:EST
DTSTART:20251102T020000
TZOFFSETFROM:-0400
TZOFFSETTO:-0500
RDATE:20261101T020000
RDATE:20271107T020000
END:STANDARD
BEGIN:DAYLIGHT
TZNAME:EDT
DTSTART:20260308T020000
TZOFFSETFROM:-0500
TZOFFSETTO:-0400
RDATE:20270314T020000
END:DAYLIGHT
END:VTIMEZONE
BEGIN:VEVENT
UID:c9bad3ff-b29d-413e-b0ac-d3f9352d0dd7
DTSTAMP:20260419T125156Z
DESCRIPTION:Kids of all ages: Come beat the heat while writing a letter or 
 card! Whether you're just learning to write\, want to practice your handwr
 iting or cursive skills\, or even practice typing a letter\, we'll provide
  what you need to have fun writing! If you do not have someone to write to
 \, feel free to write a card or letter 'from a library friend\,' and we'll
  deliver cards and letters to Page One right here in Shenandoah to be shar
 ed in the community.\n\nJoin us every other Thursday until August 20 for t
 his fun opportunity to practice your letter writing skills!
DTSTART;TZID=America/New_York:20260625T130000
DTEND;TZID=America/New_York:20260625T140000
LOCATION:Shenandoah Community Library\, 418 S. Third Street\, Shenandoah\, 
 VA 22849 US
SUMMARY:Summertime Letter and Card Writing for Kids @Shenandoah Community L
 ibrary
END:VEVENT
END:VCALENDAR
