BEGIN:VCALENDAR
VERSION:2.0
PRODID:-//mrlib.org//NONSGML kigkonsult.se iCalcreator 2.30.10//
CALSCALE:GREGORIAN
METHOD:PUBLISH
UID:f2a7b892-1cff-44d8-a119-142961952ff5
X-WR-CALDESC:Dental hygienist from Broadway Dentistry\, Allison MacLeod\, w
 ill tell us about our teeth and how to take care of them!
X-WR-RELCALID:caa6a64a27b1098eaa447a71b7fbe442
X-WR-TIMEZONE:America/New_York
BEGIN:VTIMEZONE
TZID:America/New_York
BEGIN:STANDARD
TZNAME:EST
DTSTART:20251102T020000
TZOFFSETFROM:-0400
TZOFFSETTO:-0500
RDATE:20261101T020000
RDATE:20271107T020000
END:STANDARD
BEGIN:DAYLIGHT
TZNAME:EDT
DTSTART:20260308T020000
TZOFFSETFROM:-0500
TZOFFSETTO:-0400
RDATE:20270314T020000
END:DAYLIGHT
END:VTIMEZONE
BEGIN:VEVENT
UID:70dfc874-1b73-4a4e-8b5b-5ec16d41e851
DTSTAMP:20260419T125049Z
DESCRIPTION:Dental hygienist from Broadway Dentistry\, Allison MacLeod\, wi
 ll tell us about our teeth and how to take care of them!
DTSTART;TZID=America/New_York:20260625T100000
DTEND;TZID=America/New_York:20260625T110000
LOCATION:Village Library\, 175 N. Main Street\, Broadway\, VA 22815 US
SUMMARY:Dental Health Story Time @Village Library
END:VEVENT
END:VCALENDAR
