BEGIN:VCALENDAR
VERSION:2.0
PRODID:-//mrlib.org//NONSGML kigkonsult.se iCalcreator 2.30.10//
CALSCALE:GREGORIAN
METHOD:PUBLISH
UID:f1afddba-21dd-4e56-a762-aa75e5b318b3
X-WR-CALDESC:Kids ages K-5: Come make fun crafts out of seashells and learn
  about their origins in nature in the process!
X-WR-RELCALID:6d02ceea914f952e0236248dc0bcfc4f
X-WR-TIMEZONE:America/New_York
BEGIN:VTIMEZONE
TZID:America/New_York
BEGIN:STANDARD
TZNAME:EST
DTSTART:20251102T020000
TZOFFSETFROM:-0400
TZOFFSETTO:-0500
RDATE:20261101T020000
RDATE:20271107T020000
END:STANDARD
BEGIN:DAYLIGHT
TZNAME:EDT
DTSTART:20260308T020000
TZOFFSETFROM:-0500
TZOFFSETTO:-0400
RDATE:20270314T020000
END:DAYLIGHT
END:VTIMEZONE
BEGIN:VEVENT
UID:485a50b6-3f7a-457e-927a-09b0f874d08f
DTSTAMP:20260419T124848Z
DESCRIPTION:Kids ages K-5: Come make fun crafts out of seashells and learn 
 about their origins in nature in the process!
DTSTART;TZID=America/New_York:20260625T140000
DTEND;TZID=America/New_York:20260625T150000
LOCATION:Page Public Library\, 100 Zerkel Street\, Luray\, VA 22835 US
SUMMARY:Seashell Crafts @Page Public Library
END:VEVENT
END:VCALENDAR
