BEGIN:VCALENDAR
VERSION:2.0
PRODID:-//mrlib.org//NONSGML kigkonsult.se iCalcreator 2.30.10//
CALSCALE:GREGORIAN
METHOD:PUBLISH
UID:70476910-b478-47e6-ac81-f997af3fe9ba
X-WR-CALDESC:Join us for a Story Time with the Harrisonburg Farmer's Market
 ! We will read books\, sing songs\, and learn more about the farmer's mark
 et and where our food comes.
X-WR-RELCALID:2b39dbd4d37f104da4caabe80e8aa226
X-WR-TIMEZONE:America/New_York
BEGIN:VTIMEZONE
TZID:America/New_York
BEGIN:STANDARD
TZNAME:EST
DTSTART:20251102T020000
TZOFFSETFROM:-0400
TZOFFSETTO:-0500
RDATE:20261101T020000
RDATE:20271107T020000
END:STANDARD
BEGIN:DAYLIGHT
TZNAME:EDT
DTSTART:20260308T020000
TZOFFSETFROM:-0500
TZOFFSETTO:-0400
RDATE:20270314T020000
END:DAYLIGHT
END:VTIMEZONE
BEGIN:VEVENT
UID:1a71633a-4036-49e8-89de-1cad87ed9978
DTSTAMP:20260419T125109Z
DESCRIPTION:Join us for a Story Time with the Harrisonburg Farmer's Market!
  We will read books\, sing songs\, and learn more about the farmer's marke
 t and where our food comes.
DTSTART;TZID=America/New_York:20260625T110000
DTEND;TZID=America/New_York:20260625T113000
LOCATION:Central Library\, 174 S. Main Street\, Harrisonburg\, VA 22801 US
SUMMARY:Story Time with the Harrisonburg Farmer's Market @Central Library
END:VEVENT
END:VCALENDAR
