BEGIN:VCALENDAR
VERSION:2.0
PRODID:-//mrlib.org//NONSGML kigkonsult.se iCalcreator 2.30.10//
CALSCALE:GREGORIAN
METHOD:PUBLISH
UID:8d968f3a-b19b-4c40-b14b-00840ff908ec
X-WR-CALDESC:Kids (ages K-5th grade): Come learn about our prehistoric frie
 nds through this STEM program! You will make a salt dough fossil\, dig for
  dino bones\, and make your very own dinosaur egg!
X-WR-RELCALID:655c11c788433f7695ba8f99ba613843
X-WR-TIMEZONE:America/New_York
BEGIN:VTIMEZONE
TZID:America/New_York
BEGIN:STANDARD
TZNAME:EST
DTSTART:20251102T020000
TZOFFSETFROM:-0400
TZOFFSETTO:-0500
RDATE:20261101T020000
RDATE:20271107T020000
END:STANDARD
BEGIN:DAYLIGHT
TZNAME:EDT
DTSTART:20260308T020000
TZOFFSETFROM:-0500
TZOFFSETTO:-0400
RDATE:20270314T020000
END:DAYLIGHT
END:VTIMEZONE
BEGIN:VEVENT
UID:cbe7d0fe-a3c4-43ab-8237-34e99354c60a
DTSTAMP:20260419T124731Z
DESCRIPTION:Kids (ages K-5th grade): Come learn about our prehistoric frien
 ds through this STEM program! You will make a salt dough fossil\, dig for 
 dino bones\, and make your very own dinosaur egg!
DTSTART;TZID=America/New_York:20260627T110000
DTEND;TZID=America/New_York:20260627T120000
LOCATION:Central Library\, 174 S. Main Street\, Harrisonburg\, VA 22801 US
SUMMARY:Dinosaur Science @Central Library
END:VEVENT
END:VCALENDAR
