BEGIN:VCALENDAR
VERSION:2.0
PRODID:-//mrlib.org//NONSGML kigkonsult.se iCalcreator 2.30.10//
CALSCALE:GREGORIAN
METHOD:PUBLISH
UID:ddfd8956-b241-4144-88ab-41f86a620f88
X-WR-CALDESC:Kids ages 5-8: join us to learn how to prep and make two delic
 ious recipes! This program is intended to introduce 5-8 year old kids to t
 he wonderful world of cooking\, in partnership with the Virginia Cooperati
 ve Extension and the 4-H Club.\n\nRegistration is required\, so click the 
 'Register Now' button and make sure to list any food allergies on the form
 ! Please note that registration will close on June 22 so that we can choos
 e the recipes and shop for them.
X-WR-RELCALID:32aee7dea59dcfca1ac03e0efe64a585
X-WR-TIMEZONE:America/New_York
BEGIN:VTIMEZONE
TZID:America/New_York
BEGIN:STANDARD
TZNAME:EST
DTSTART:20251102T020000
TZOFFSETFROM:-0400
TZOFFSETTO:-0500
RDATE:20261101T020000
RDATE:20271107T020000
END:STANDARD
BEGIN:DAYLIGHT
TZNAME:EDT
DTSTART:20260308T020000
TZOFFSETFROM:-0500
TZOFFSETTO:-0400
RDATE:20270314T020000
END:DAYLIGHT
END:VTIMEZONE
BEGIN:VEVENT
UID:871744a0-c52e-4c70-b22f-f645ec92f249
DTSTAMP:20260419T124828Z
DESCRIPTION:Kids ages 5-8: join us to learn how to prep and make two delici
 ous recipes! This program is intended to introduce 5-8 year old kids to th
 e wonderful world of cooking\, in partnership with the Virginia Cooperativ
 e Extension and the 4-H Club.\n\nRegistration is required\, so click the '
 Register Now' button and make sure to list any food allergies on the form!
  Please note that registration will close on June 22 so that we can choose
  the recipes and shop for them.
DTSTART;TZID=America/New_York:20260629T130000
DTEND;TZID=America/New_York:20260629T140000
LOCATION:Page Public Library\, 100 Zerkel Street\, Luray\, VA 22835 US
SUMMARY:Cooking Program for Ages 5-8 @ Page Public Library
END:VEVENT
END:VCALENDAR
