BEGIN:VCALENDAR
VERSION:2.0
PRODID:-//mrlib.org//NONSGML kigkonsult.se iCalcreator 2.30.10//
CALSCALE:GREGORIAN
METHOD:PUBLISH
UID:8898eb0e-0279-4a51-8f00-0c967aed345c
X-WR-CALDESC:Kids ages 9-11: join us to learn how to prep and make two deli
 cious recipes! This program is intended to introduce 9-11 year old kids to
  the wonderful world of cooking\, in partnership with the Virginia Coopera
 tive Extension and the 4-H Club.\n\nRegistration is required\, so click th
 e 'Register Now' button and make sure to list any food allergies on the fo
 rm! Please note that registration will close on June 22 so that we can cho
 ose the recipes and shop for them.
X-WR-RELCALID:7a195eb77f38beefa7a27bfff549989b
X-WR-TIMEZONE:America/New_York
BEGIN:VTIMEZONE
TZID:America/New_York
BEGIN:STANDARD
TZNAME:EST
DTSTART:20251102T020000
TZOFFSETFROM:-0400
TZOFFSETTO:-0500
RDATE:20261101T020000
RDATE:20271107T020000
END:STANDARD
BEGIN:DAYLIGHT
TZNAME:EDT
DTSTART:20260308T020000
TZOFFSETFROM:-0500
TZOFFSETTO:-0400
RDATE:20270314T020000
END:DAYLIGHT
END:VTIMEZONE
BEGIN:VEVENT
UID:08d39c4b-aac7-4121-893b-471cb4b78b58
DTSTAMP:20260419T124848Z
DESCRIPTION:Kids ages 9-11: join us to learn how to prep and make two delic
 ious recipes! This program is intended to introduce 9-11 year old kids to 
 the wonderful world of cooking\, in partnership with the Virginia Cooperat
 ive Extension and the 4-H Club.\n\nRegistration is required\, so click the
  'Register Now' button and make sure to list any food allergies on the for
 m! Please note that registration will close on June 22 so that we can choo
 se the recipes and shop for them.
DTSTART;TZID=America/New_York:20260629T150000
DTEND;TZID=America/New_York:20260629T160000
LOCATION:Page Public Library\, 100 Zerkel Street\, Luray\, VA 22835 US
SUMMARY:Cooking Program for Ages 9-11 @Page Public Library
END:VEVENT
END:VCALENDAR
