BEGIN:VCALENDAR
VERSION:2.0
PRODID:-//mrlib.org//NONSGML kigkonsult.se iCalcreator 2.30.10//
CALSCALE:GREGORIAN
METHOD:PUBLISH
UID:2b1b3011-56bc-4ee9-a544-e2302532bd69
X-WR-CALDESC:Children of all ages and their caregivers will enjoy a special
  Fire Safety Story Time with the Rockingham County Department of Fire & Re
 scue! We'll learn all about the importance of fire safety with Fire & Life
  Safety Technician Fiona Albertson.
X-WR-RELCALID:c795af4654f6ce482afeec9f22718542
X-WR-TIMEZONE:America/New_York
BEGIN:VTIMEZONE
TZID:America/New_York
BEGIN:STANDARD
TZNAME:EST
DTSTART:20251102T020000
TZOFFSETFROM:-0400
TZOFFSETTO:-0500
RDATE:20261101T020000
RDATE:20271107T020000
END:STANDARD
BEGIN:DAYLIGHT
TZNAME:EDT
DTSTART:20260308T020000
TZOFFSETFROM:-0500
TZOFFSETTO:-0400
RDATE:20270314T020000
END:DAYLIGHT
END:VTIMEZONE
BEGIN:VEVENT
UID:07150411-c981-44e5-abb6-5c2d9510a6b3
DTSTAMP:20260419T144143Z
DESCRIPTION:Children of all ages and their caregivers will enjoy a special 
 Fire Safety Story Time with the Rockingham County Department of Fire & Res
 cue! We'll learn all about the importance of fire safety with Fire & Life 
 Safety Technician Fiona Albertson.
DTSTART;TZID=America/New_York:20260702T100000
DTEND;TZID=America/New_York:20260702T110000
LOCATION:Village Library\, 175 N. Main Street\, Broadway\, VA 22815 US
SUMMARY:Fire Safety Story Time @Village Library
END:VEVENT
END:VCALENDAR
