BEGIN:VCALENDAR
VERSION:2.0
PRODID:-//mrlib.org//NONSGML kigkonsult.se iCalcreator 2.30.10//
CALSCALE:GREGORIAN
METHOD:PUBLISH
UID:df6e6a7b-7bad-472e-8a5b-c204b206c8b4
X-WR-CALDESC:Join us for a Story Time with firefighters from the Luray Fire
  Department! We'll read books\, sing songs\, learn fire safety\, and check
  out firefighter uniforms and a real fire truck.
X-WR-RELCALID:9321e364682e740461c91407580ede87
X-WR-TIMEZONE:America/New_York
BEGIN:VTIMEZONE
TZID:America/New_York
BEGIN:STANDARD
TZNAME:EST
DTSTART:20251102T020000
TZOFFSETFROM:-0400
TZOFFSETTO:-0500
RDATE:20261101T020000
RDATE:20271107T020000
END:STANDARD
BEGIN:DAYLIGHT
TZNAME:EDT
DTSTART:20260308T020000
TZOFFSETFROM:-0500
TZOFFSETTO:-0400
RDATE:20270314T020000
END:DAYLIGHT
END:VTIMEZONE
BEGIN:VEVENT
UID:8023291a-da54-43d0-ba6e-55a0ac80654f
DTSTAMP:20260419T144110Z
DESCRIPTION:Join us for a Story Time with firefighters from the Luray Fire 
 Department! We'll read books\, sing songs\, learn fire safety\, and check 
 out firefighter uniforms and a real fire truck.
DTSTART;TZID=America/New_York:20260702T103000
DTEND;TZID=America/New_York:20260702T233000
LOCATION:Page Public Library\, 100 Zerkel Street\, Luray\, VA 22835 US
SUMMARY:Firefighter Story Time @Page Public Library
END:VEVENT
END:VCALENDAR
