BEGIN:VCALENDAR
VERSION:2.0
PRODID:-//mrlib.org//NONSGML kigkonsult.se iCalcreator 2.30.10//
CALSCALE:GREGORIAN
METHOD:PUBLISH
UID:288f6df2-f5f8-42b5-b7fc-aca9b98d2304
X-WR-CALDESC:Teens and tweens (ages 11-17): make your own book from scratch
 \, from binding the pages to attaching the covers!\n\nThis program will ta
 ke most of the 2 hours\, so come early if you want to go through the whole
  process.
X-WR-RELCALID:2519069d9edca8dfc1f2c2d4149d0944
X-WR-TIMEZONE:America/New_York
BEGIN:VTIMEZONE
TZID:America/New_York
BEGIN:STANDARD
TZNAME:EST
DTSTART:20251102T020000
TZOFFSETFROM:-0400
TZOFFSETTO:-0500
RDATE:20261101T020000
RDATE:20271107T020000
END:STANDARD
BEGIN:DAYLIGHT
TZNAME:EDT
DTSTART:20260308T020000
TZOFFSETFROM:-0500
TZOFFSETTO:-0400
RDATE:20270314T020000
END:DAYLIGHT
END:VTIMEZONE
BEGIN:VEVENT
UID:347f8baa-5ac7-4b54-8e3e-8661e1eec615
DTSTAMP:20260419T144109Z
DESCRIPTION:Teens and tweens (ages 11-17): make your own book from scratch\
 , from binding the pages to attaching the covers!\n\nThis program will tak
 e most of the 2 hours\, so come early if you want to go through the whole 
 process.
DTSTART;TZID=America/New_York:20260702T140000
DTEND;TZID=America/New_York:20260702T160000
LOCATION:Shenandoah Community Library\, 418 S. Third Street\, Shenandoah\, 
 VA 22849 US
SUMMARY:Make Your Own Book @Shenandoah Community Library
END:VEVENT
END:VCALENDAR
