BEGIN:VCALENDAR
VERSION:2.0
PRODID:-//mrlib.org//NONSGML kigkonsult.se iCalcreator 2.30.10//
CALSCALE:GREGORIAN
METHOD:PUBLISH
UID:875316f9-3f32-4d63-a118-4d3146476d6e
X-WR-CALDESC:Children of all ages can enjoy reading\, singing\, and dancing
  with the Chick-fil-A cow! Bring your camera for a chance to take a pictur
 e with the cow.
X-WR-RELCALID:b771f15dcce5e593c27fd63b0bc02c0f
X-WR-TIMEZONE:America/New_York
BEGIN:VTIMEZONE
TZID:America/New_York
BEGIN:STANDARD
TZNAME:EST
DTSTART:20251102T020000
TZOFFSETFROM:-0400
TZOFFSETTO:-0500
RDATE:20261101T020000
RDATE:20271107T020000
END:STANDARD
BEGIN:DAYLIGHT
TZNAME:EDT
DTSTART:20260308T020000
TZOFFSETFROM:-0500
TZOFFSETTO:-0400
RDATE:20270314T020000
END:DAYLIGHT
END:VTIMEZONE
BEGIN:VEVENT
UID:1073b8e8-5371-4435-933f-e5855fc942ab
DTSTAMP:20260419T144228Z
DESCRIPTION:Children of all ages can enjoy reading\, singing\, and dancing 
 with the Chick-fil-A cow! Bring your camera for a chance to take a picture
  with the cow.
DTSTART;TZID=America/New_York:20260702T110000
DTEND;TZID=America/New_York:20260702T113000
LOCATION:Central Library\, 174 S. Main Street\, Harrisonburg\, VA 22801 US
SUMMARY:Story Time with the Chick-fil-A Cow @Central Library
END:VEVENT
END:VCALENDAR
