BEGIN:VCALENDAR
VERSION:2.0
PRODID:-//mrlib.org//NONSGML kigkonsult.se iCalcreator 2.30.10//
CALSCALE:GREGORIAN
METHOD:PUBLISH
UID:ec73ef85-42ed-4f43-acd8-4672cb303972
X-WR-CALDESC:Kids (pre-K-5th grade): step into the prehistoric world with '
 Dino Academy: A Dinosaur Discovery Show' presented by Bright Star Children
 's Theatre! Led by the quirky and curious Dr. Sarah Tops\, this action-pac
 ked adventure uncovers fascinating dino facts that will wow even the bigge
 st dino fans. Featuring life-like\, colorful dinosaur puppets that stomp\,
  roar and charm their way into every heart\, this show blends science\, st
 orytelling and imagination in the style of your favorite nature programs. 
 It’s an unforgettable field trip through time—without ever leaving your se
 at!
X-WR-RELCALID:4c5e28c610d8c6c44a86f12f53b089e9
X-WR-TIMEZONE:America/New_York
BEGIN:VTIMEZONE
TZID:America/New_York
BEGIN:STANDARD
TZNAME:EST
DTSTART:20251102T020000
TZOFFSETFROM:-0400
TZOFFSETTO:-0500
RDATE:20261101T020000
RDATE:20271107T020000
END:STANDARD
BEGIN:DAYLIGHT
TZNAME:EDT
DTSTART:20260308T020000
TZOFFSETFROM:-0500
TZOFFSETTO:-0400
RDATE:20270314T020000
END:DAYLIGHT
END:VTIMEZONE
BEGIN:VEVENT
UID:190acefe-807f-4762-a1bf-b11cd9b27181
DTSTAMP:20260419T144227Z
DESCRIPTION:Kids (pre-K-5th grade): step into the prehistoric world with 'D
 ino Academy: A Dinosaur Discovery Show' presented by Bright Star Children'
 s Theatre! Led by the quirky and curious Dr. Sarah Tops\, this action-pack
 ed adventure uncovers fascinating dino facts that will wow even the bigges
 t dino fans. Featuring life-like\, colorful dinosaur puppets that stomp\, 
 roar and charm their way into every heart\, this show blends science\, sto
 rytelling and imagination in the style of your favorite nature programs. I
 t’s an unforgettable field trip through time—without ever leaving your sea
 t!
DTSTART;TZID=America/New_York:20260709T160000
DTEND;TZID=America/New_York:20260709T170000
LOCATION:Grottoes Branch Library\, 601 Dogwood Avenue\, Grottoes\, VA 24441
  US
SUMMARY:Dino Academy: A Dinosaur Discovery Show @Grottoes Branch Library
END:VEVENT
END:VCALENDAR
