BEGIN:VCALENDAR
VERSION:2.0
PRODID:-//mrlib.org//NONSGML kigkonsult.se iCalcreator 2.30.10//
CALSCALE:GREGORIAN
METHOD:PUBLISH
UID:fd8ec8a9-9ceb-4e40-b5ac-2ecf820cafbc
X-WR-CALDESC:Kids (pre-K-5th grade): step into the prehistoric world with '
 Dino Academy: A Dinosaur Discovery Show' presented by Bright Star Children
 's Theatre! Led by the quirky and curious Dr. Sarah Tops\, this action-pac
 ked adventure uncovers fascinating dino facts that will wow even the bigge
 st dino fans. Featuring life-like\, colorful dinosaur puppets that stomp\,
  roar and charm their way into every heart\, this show blends science\, st
 orytelling and imagination in the style of your favorite nature programs. 
 It’s an unforgettable field trip through time—without ever leaving your se
 at!
X-WR-RELCALID:2288a0b608d66c142af47649ecddd37e
X-WR-TIMEZONE:America/New_York
BEGIN:VTIMEZONE
TZID:America/New_York
BEGIN:STANDARD
TZNAME:EST
DTSTART:20251102T020000
TZOFFSETFROM:-0400
TZOFFSETTO:-0500
RDATE:20261101T020000
RDATE:20271107T020000
END:STANDARD
BEGIN:DAYLIGHT
TZNAME:EDT
DTSTART:20260308T020000
TZOFFSETFROM:-0500
TZOFFSETTO:-0400
RDATE:20270314T020000
END:DAYLIGHT
END:VTIMEZONE
BEGIN:VEVENT
UID:25e1571a-8c2c-4506-8f66-7f9af89ee69d
DTSTAMP:20260419T144143Z
DESCRIPTION:Kids (pre-K-5th grade): step into the prehistoric world with 'D
 ino Academy: A Dinosaur Discovery Show' presented by Bright Star Children'
 s Theatre! Led by the quirky and curious Dr. Sarah Tops\, this action-pack
 ed adventure uncovers fascinating dino facts that will wow even the bigges
 t dino fans. Featuring life-like\, colorful dinosaur puppets that stomp\, 
 roar and charm their way into every heart\, this show blends science\, sto
 rytelling and imagination in the style of your favorite nature programs. I
 t’s an unforgettable field trip through time—without ever leaving your sea
 t!
DTSTART;TZID=America/New_York:20260709T103000
DTEND;TZID=America/New_York:20260709T113000
LOCATION:Page Public Library\, 100 Zerkel Street\, Luray\, VA 22835 US
SUMMARY:Dino Academy: A Dinosaur Discovery Show @Page Public Library
END:VEVENT
END:VCALENDAR
