BEGIN:VCALENDAR
VERSION:2.0
PRODID:-//mrlib.org//NONSGML kigkonsult.se iCalcreator 2.30.10//
CALSCALE:GREGORIAN
METHOD:PUBLISH
UID:45b2ce8f-7700-4d68-b87a-14eefa696227
X-WR-CALDESC:Teens and tweens (ages 11-17): make your own book from scratch
 \, from binding the pages to attaching the covers!\n\nThis program will ta
 ke most of the 2 hours\, so come early if you want to go through the whole
  process.
X-WR-RELCALID:c4df5ac4b1c8a7667403f08daf5baf20
X-WR-TIMEZONE:America/New_York
BEGIN:VTIMEZONE
TZID:America/New_York
BEGIN:STANDARD
TZNAME:EST
DTSTART:20251102T020000
TZOFFSETFROM:-0400
TZOFFSETTO:-0500
RDATE:20261101T020000
RDATE:20271107T020000
END:STANDARD
BEGIN:DAYLIGHT
TZNAME:EDT
DTSTART:20260308T020000
TZOFFSETFROM:-0500
TZOFFSETTO:-0400
RDATE:20270314T020000
END:DAYLIGHT
END:VTIMEZONE
BEGIN:VEVENT
UID:8588bdd4-a438-4194-b7ea-7bbf82778833
DTSTAMP:20260419T144110Z
DESCRIPTION:Teens and tweens (ages 11-17): make your own book from scratch\
 , from binding the pages to attaching the covers!\n\nThis program will tak
 e most of the 2 hours\, so come early if you want to go through the whole 
 process.
DTSTART;TZID=America/New_York:20260709T140000
DTEND;TZID=America/New_York:20260709T160000
LOCATION:Elkton Community Library\, 106 N. Terrace Avenue\, Elkton\, VA 228
 27 US
SUMMARY:Make Your Own Book @Elkton Community Library
END:VEVENT
END:VCALENDAR
