BEGIN:VCALENDAR
VERSION:2.0
PRODID:-//mrlib.org//NONSGML kigkonsult.se iCalcreator 2.30.10//
CALSCALE:GREGORIAN
METHOD:PUBLISH
UID:5eb7b7d7-0ee7-4303-a09a-e3a8d062741f
X-WR-CALDESC:Join us for a special Story Time with Officer B. from the Harr
 isonburg Police Department! We will read books\, sing songs\, and learn a 
 few safety lessons. After Story Time\, we will have the opportunity to exa
 mine some police vehicles.
X-WR-RELCALID:b9420ab2aa2864c9b77be99e75907ce6
X-WR-TIMEZONE:America/New_York
BEGIN:VTIMEZONE
TZID:America/New_York
BEGIN:STANDARD
TZNAME:EST
DTSTART:20251102T020000
TZOFFSETFROM:-0400
TZOFFSETTO:-0500
RDATE:20261101T020000
RDATE:20271107T020000
END:STANDARD
BEGIN:DAYLIGHT
TZNAME:EDT
DTSTART:20260308T020000
TZOFFSETFROM:-0500
TZOFFSETTO:-0400
RDATE:20270314T020000
END:DAYLIGHT
END:VTIMEZONE
BEGIN:VEVENT
UID:03a4be80-8ad4-4fef-872d-6e607e727476
DTSTAMP:20260419T144327Z
DESCRIPTION:Join us for a special Story Time with Officer B. from the Harri
 sonburg Police Department! We will read books\, sing songs\, and learn a f
 ew safety lessons. After Story Time\, we will have the opportunity to exam
 ine some police vehicles.
DTSTART;TZID=America/New_York:20260709T110000
DTEND;TZID=America/New_York:20260709T120000
LOCATION:Central Library - Community Youth Center\, 174 S. Main St.\, Harri
 sonburg\, VA 22801 US
SUMMARY:Story Time with the Harrisonburg Police Department @Central Library
END:VEVENT
END:VCALENDAR
