BEGIN:VCALENDAR
VERSION:2.0
PRODID:-//mrlib.org//NONSGML kigkonsult.se iCalcreator 2.30.10//
CALSCALE:GREGORIAN
METHOD:PUBLISH
UID:46cbe7d6-cbc6-46d2-ba9f-7b233d01887b
X-WR-CALDESC:Kids (ages 6-10): Ready to dig in and unearth your very own di
 nosaur from an egg fossil? Learn about how paleontologists dig up bones an
 d make salt dough fossil impressions with a set of mini dinosaurs or foot 
 prints!\n\nSpace is limited\, so click 'Register Now' to save your spot!
X-WR-RELCALID:44e4774cb3699e68f42baa96f5aaa26d
X-WR-TIMEZONE:America/New_York
BEGIN:VTIMEZONE
TZID:America/New_York
BEGIN:STANDARD
TZNAME:EST
DTSTART:20251102T020000
TZOFFSETFROM:-0400
TZOFFSETTO:-0500
RDATE:20261101T020000
RDATE:20271107T020000
END:STANDARD
BEGIN:DAYLIGHT
TZNAME:EDT
DTSTART:20260308T020000
TZOFFSETFROM:-0500
TZOFFSETTO:-0400
RDATE:20270314T020000
END:DAYLIGHT
END:VTIMEZONE
BEGIN:VEVENT
UID:64be8aba-5fad-4456-bd4d-43149e3af278
DTSTAMP:20260419T144141Z
DESCRIPTION:Kids (ages 6-10): Ready to dig in and unearth your very own din
 osaur from an egg fossil? Learn about how paleontologists dig up bones and
  make salt dough fossil impressions with a set of mini dinosaurs or foot p
 rints!\n\nSpace is limited\, so click 'Register Now' to save your spot!
DTSTART;TZID=America/New_York:20260709T143000
DTEND;TZID=America/New_York:20260709T153000
LOCATION:Elkton Community Library\, 106 N. Terrace Avenue\, Elkton\, VA 228
 27 US
SUMMARY:Unearth Your Dinosaurs @Elkton Community Library
END:VEVENT
END:VCALENDAR
