BEGIN:VCALENDAR
VERSION:2.0
PRODID:-//mrlib.org//NONSGML kigkonsult.se iCalcreator 2.30.10//
CALSCALE:GREGORIAN
METHOD:PUBLISH
UID:afabc7a7-32b6-412a-9dce-5734dfd31b68
X-WR-CALDESC:Kids (pre-K-5th grade): step into the prehistoric world with '
 Dino Academy: A Dinosaur Discovery Show' presented by Bright Star Children
 's Theatre! Led by the quirky and curious Dr. Sarah Tops\, this action-pac
 ked adventure uncovers fascinating dino facts that will wow even the bigge
 st dino fans. Featuring life-like\, colorful dinosaur puppets that stomp\,
  roar and charm their way into every heart\, this show blends science\, st
 orytelling and imagination in the style of your favorite nature programs. 
 It’s an unforgettable field trip through time—without ever leaving your se
 at!
X-WR-RELCALID:643ce642d8989c4f5ac662de7b5ee0cf
X-WR-TIMEZONE:America/New_York
BEGIN:VTIMEZONE
TZID:America/New_York
BEGIN:STANDARD
TZNAME:EST
DTSTART:20251102T020000
TZOFFSETFROM:-0400
TZOFFSETTO:-0500
RDATE:20261101T020000
RDATE:20271107T020000
END:STANDARD
BEGIN:DAYLIGHT
TZNAME:EDT
DTSTART:20260308T020000
TZOFFSETFROM:-0500
TZOFFSETTO:-0400
RDATE:20270314T020000
END:DAYLIGHT
END:VTIMEZONE
BEGIN:VEVENT
UID:0a5c503a-e285-427a-93c5-e05a63f7c183
DTSTAMP:20260419T144226Z
DESCRIPTION:Kids (pre-K-5th grade): step into the prehistoric world with 'D
 ino Academy: A Dinosaur Discovery Show' presented by Bright Star Children'
 s Theatre! Led by the quirky and curious Dr. Sarah Tops\, this action-pack
 ed adventure uncovers fascinating dino facts that will wow even the bigges
 t dino fans. Featuring life-like\, colorful dinosaur puppets that stomp\, 
 roar and charm their way into every heart\, this show blends science\, sto
 rytelling and imagination in the style of your favorite nature programs. I
 t’s an unforgettable field trip through time—without ever leaving your sea
 t!
DTSTART;TZID=America/New_York:20260710T103000
DTEND;TZID=America/New_York:20260710T113000
LOCATION:Elkton Community Center\, 20593 Blue and Gold Drive\, Elkton\, VA 
 22827 US
SUMMARY:Dino Academy: A Dinosaur Discovery Show @Elkton Community Center
END:VEVENT
END:VCALENDAR
