BEGIN:VCALENDAR
VERSION:2.0
PRODID:-//mrlib.org//NONSGML kigkonsult.se iCalcreator 2.30.10//
CALSCALE:GREGORIAN
METHOD:PUBLISH
UID:6c8fe622-3595-4695-984b-f1f7d15ec175
X-WR-CALDESC:All ages are invited to explore the North River Library Pollin
 ator Garden in full bloom! Enjoy stations for learning\, painting\, music\
 , and STEM creativity about all things pollinator including butterflies!\n
 \n
X-WR-RELCALID:f2dc500d14e730eb9fd6f1460ea0590a
X-WR-TIMEZONE:America/New_York
BEGIN:VTIMEZONE
TZID:America/New_York
BEGIN:STANDARD
TZNAME:EST
DTSTART:20251102T020000
TZOFFSETFROM:-0400
TZOFFSETTO:-0500
RDATE:20261101T020000
RDATE:20271107T020000
END:STANDARD
BEGIN:DAYLIGHT
TZNAME:EDT
DTSTART:20260308T020000
TZOFFSETFROM:-0500
TZOFFSETTO:-0400
RDATE:20270314T020000
END:DAYLIGHT
END:VTIMEZONE
BEGIN:VEVENT
UID:4eba72fd-3cc0-4bf3-aaac-fcd19ca9dceb
DTSTAMP:20260419T144339Z
DESCRIPTION:All ages are invited to explore the North River Library Pollina
 tor Garden in full bloom! Enjoy stations for learning\, painting\, music\,
  and STEM creativity about all things pollinator including butterflies!\n
 \n
DTSTART;TZID=America/New_York:20260711T100000
DTEND;TZID=America/New_York:20260711T113000
LOCATION:North River Library\, 118 Mt. Crawford Avenue\, Bridgewater\, VA 2
 2812 US
SUMMARY:Let's Get Gardening @North River Library
END:VEVENT
END:VCALENDAR
