BEGIN:VCALENDAR
VERSION:2.0
PRODID:-//mrlib.org//NONSGML kigkonsult.se iCalcreator 2.30.10//
CALSCALE:GREGORIAN
METHOD:PUBLISH
UID:b5d58950-88eb-49fc-b30b-520effc938b2
X-WR-CALDESC:Children of all ages and their caregivers will enjoy a special
  Fire Safety Story Time with the Rockingham County Department of Fire & Re
 scue! We'll learn all about the importance of fire safety with Fire & Life
  Safety Technician Fiona Albertson.
X-WR-RELCALID:afa0f125e7404d3531b0766b30167520
X-WR-TIMEZONE:America/New_York
BEGIN:VTIMEZONE
TZID:America/New_York
BEGIN:STANDARD
TZNAME:EST
DTSTART:20251102T020000
TZOFFSETFROM:-0400
TZOFFSETTO:-0500
RDATE:20261101T020000
RDATE:20271107T020000
END:STANDARD
BEGIN:DAYLIGHT
TZNAME:EDT
DTSTART:20260308T020000
TZOFFSETFROM:-0500
TZOFFSETTO:-0400
RDATE:20270314T020000
END:DAYLIGHT
END:VTIMEZONE
BEGIN:VEVENT
UID:a6ad8ca6-29c4-4e4a-9f59-bd6bbbc78ef9
DTSTAMP:20260419T144329Z
DESCRIPTION:Children of all ages and their caregivers will enjoy a special 
 Fire Safety Story Time with the Rockingham County Department of Fire & Res
 cue! We'll learn all about the importance of fire safety with Fire & Life 
 Safety Technician Fiona Albertson.
DTSTART;TZID=America/New_York:20260713T103000
DTEND;TZID=America/New_York:20260713T113000
LOCATION:Elkton Downtown Marketplace Pavilion\, 158 West Spotswood Avenue\,
  Elkton\, VA 22827 US
SUMMARY:Fire Safety Story Time @Elkton Downtown Marketplace Pavilion
END:VEVENT
END:VCALENDAR
