BEGIN:VCALENDAR
VERSION:2.0
PRODID:-//mrlib.org//NONSGML kigkonsult.se iCalcreator 2.30.10//
CALSCALE:GREGORIAN
METHOD:PUBLISH
UID:e5798dde-3d20-41c8-8695-9ab2fc474b55
X-WR-CALDESC:Teens and tweens (ages 11-17): make your own book from scratch
 \, from binding the pages to attaching the covers!\n\nThis program will ta
 ke most of the 2 hours\, so come early if you want to go through the whole
  process.
X-WR-RELCALID:3f3486a84a57a697eef9ecb2304826ff
X-WR-TIMEZONE:America/New_York
BEGIN:VTIMEZONE
TZID:America/New_York
BEGIN:STANDARD
TZNAME:EST
DTSTART:20251102T020000
TZOFFSETFROM:-0400
TZOFFSETTO:-0500
RDATE:20261101T020000
RDATE:20271107T020000
END:STANDARD
BEGIN:DAYLIGHT
TZNAME:EDT
DTSTART:20260308T020000
TZOFFSETFROM:-0500
TZOFFSETTO:-0400
RDATE:20270314T020000
END:DAYLIGHT
END:VTIMEZONE
BEGIN:VEVENT
UID:c2e3916d-329c-4bba-be70-44c1ba2fec8f
DTSTAMP:20260419T144113Z
DESCRIPTION:Teens and tweens (ages 11-17): make your own book from scratch\
 , from binding the pages to attaching the covers!\n\nThis program will tak
 e most of the 2 hours\, so come early if you want to go through the whole 
 process.
DTSTART;TZID=America/New_York:20260714T140000
DTEND;TZID=America/New_York:20260714T160000
LOCATION:Page Public Library\, 100 Zerkel Street\, Luray\, VA 22835 US
SUMMARY:Make Your Own Book @Page Public Library
END:VEVENT
END:VCALENDAR
