BEGIN:VCALENDAR
VERSION:2.0
PRODID:-//mrlib.org//NONSGML kigkonsult.se iCalcreator 2.30.10//
CALSCALE:GREGORIAN
METHOD:PUBLISH
UID:d480063d-6997-4a73-81ee-f2e73550ded8
X-WR-CALDESC:Kids (ages 3-10): Let's paint some dinosaurs with finger paint
 !\n\nSpace is limited\, so click 'Register Now' to save your spot.
X-WR-RELCALID:4f84aaf68fd3c20c47c1b6b8d73f7e4c
X-WR-TIMEZONE:America/New_York
BEGIN:VTIMEZONE
TZID:America/New_York
BEGIN:STANDARD
TZNAME:EST
DTSTART:20251102T020000
TZOFFSETFROM:-0400
TZOFFSETTO:-0500
RDATE:20261101T020000
RDATE:20271107T020000
END:STANDARD
BEGIN:DAYLIGHT
TZNAME:EDT
DTSTART:20260308T020000
TZOFFSETFROM:-0500
TZOFFSETTO:-0400
RDATE:20270314T020000
END:DAYLIGHT
END:VTIMEZONE
BEGIN:VEVENT
UID:22787633-d480-45b9-ad1e-96d3485355a6
DTSTAMP:20260419T144141Z
DESCRIPTION:Kids (ages 3-10): Let's paint some dinosaurs with finger paint!
 \n\nSpace is limited\, so click 'Register Now' to save your spot.
DTSTART;TZID=America/New_York:20260716T140000
DTEND;TZID=America/New_York:20260716T150000
LOCATION:Shenandoah Community Library\, 418 S. Third Street\, Shenandoah\, 
 VA 22849 US
SUMMARY:Dinosaur Finger Painting @Shenandoah Community Library
END:VEVENT
END:VCALENDAR
