BEGIN:VCALENDAR
VERSION:2.0
PRODID:-//mrlib.org//NONSGML kigkonsult.se iCalcreator 2.30.10//
CALSCALE:GREGORIAN
METHOD:PUBLISH
UID:0bdf3b8d-cf0d-45ef-b8f1-8f39255b7b3b
X-WR-CALDESC:Teens and tweens (ages 11-17): make your own book from scratch
 \, from binding the pages to attaching the covers!\n\nThis program will ta
 ke most of the 2 hours\, so come early if you want to go through the whole
  process.
X-WR-RELCALID:b100770d2c1913cc19bb82eccb4ede84
X-WR-TIMEZONE:America/New_York
BEGIN:VTIMEZONE
TZID:America/New_York
BEGIN:STANDARD
TZNAME:EST
DTSTART:20251102T020000
TZOFFSETFROM:-0400
TZOFFSETTO:-0500
RDATE:20261101T020000
RDATE:20271107T020000
END:STANDARD
BEGIN:DAYLIGHT
TZNAME:EDT
DTSTART:20260308T020000
TZOFFSETFROM:-0500
TZOFFSETTO:-0400
RDATE:20270314T020000
END:DAYLIGHT
END:VTIMEZONE
BEGIN:VEVENT
UID:bde8aa56-1b94-49c6-9545-a4f9095e64fe
DTSTAMP:20260419T144109Z
DESCRIPTION:Teens and tweens (ages 11-17): make your own book from scratch\
 , from binding the pages to attaching the covers!\n\nThis program will tak
 e most of the 2 hours\, so come early if you want to go through the whole 
 process.
DTSTART;TZID=America/New_York:20260716T140000
DTEND;TZID=America/New_York:20260716T160000
LOCATION:Village Library\, 175 N. Main Street\, Broadway\, VA 22815 US
SUMMARY:Make Your Own Book @Village Library
END:VEVENT
END:VCALENDAR
