BEGIN:VCALENDAR
VERSION:2.0
PRODID:-//mrlib.org//NONSGML kigkonsult.se iCalcreator 2.30.10//
CALSCALE:GREGORIAN
METHOD:PUBLISH
UID:f6804df5-d687-4454-8c0a-dae1210af14b
X-WR-CALDESC:Join us to discuss and read about environmental sciences with 
 Dr. Steven Frysinger!\n\nDr. Steven Frysinger is an environmental science 
 professor at James Madison University. In his spare time\, he volunteers a
 t the Frontier Culture Museum\, interpreting medical and scientific histor
 y.
X-WR-RELCALID:7c86567790def094d0f7cb2c702f70d6
X-WR-TIMEZONE:America/New_York
BEGIN:VTIMEZONE
TZID:America/New_York
BEGIN:STANDARD
TZNAME:EST
DTSTART:20251102T020000
TZOFFSETFROM:-0400
TZOFFSETTO:-0500
RDATE:20261101T020000
RDATE:20271107T020000
END:STANDARD
BEGIN:DAYLIGHT
TZNAME:EDT
DTSTART:20260308T020000
TZOFFSETFROM:-0500
TZOFFSETTO:-0400
RDATE:20270314T020000
END:DAYLIGHT
END:VTIMEZONE
BEGIN:VEVENT
UID:91427956-58ee-4368-914a-0ae8d5183d37
DTSTAMP:20260419T144144Z
DESCRIPTION:Join us to discuss and read about environmental sciences with D
 r. Steven Frysinger!\n\nDr. Steven Frysinger is an environmental science p
 rofessor at James Madison University. In his spare time\, he volunteers at
  the Frontier Culture Museum\, interpreting medical and scientific history
 .
DTSTART;TZID=America/New_York:20260716T110000
DTEND;TZID=America/New_York:20260716T113000
LOCATION:Central Library\, 174 S. Main Street\, Harrisonburg\, VA 22802 US
SUMMARY:Story Time with Scientist Steve @Central Library
END:VEVENT
END:VCALENDAR
