BEGIN:VCALENDAR
VERSION:2.0
PRODID:-//mrlib.org//NONSGML kigkonsult.se iCalcreator 2.30.10//
CALSCALE:GREGORIAN
METHOD:PUBLISH
UID:c160b840-d0d6-4980-b7a1-a9d890440cdf
X-WR-CALDESC:Children of all ages can enjoy reading\, singing\, and dancing
  with the Chick-fil-A cow! Bring your camera for a chance to take a pictur
 e with the cow.
X-WR-RELCALID:998311b90e7a8bc695176236c39d7b8c
X-WR-TIMEZONE:America/New_York
BEGIN:VTIMEZONE
TZID:America/New_York
BEGIN:STANDARD
TZNAME:EST
DTSTART:20251102T020000
TZOFFSETFROM:-0400
TZOFFSETTO:-0500
RDATE:20261101T020000
RDATE:20271107T020000
END:STANDARD
BEGIN:DAYLIGHT
TZNAME:EDT
DTSTART:20260308T020000
TZOFFSETFROM:-0500
TZOFFSETTO:-0400
RDATE:20270314T020000
END:DAYLIGHT
END:VTIMEZONE
BEGIN:VEVENT
UID:c392e80a-b16f-44c1-b734-53d087f10e05
DTSTAMP:20260419T144227Z
DESCRIPTION:Children of all ages can enjoy reading\, singing\, and dancing 
 with the Chick-fil-A cow! Bring your camera for a chance to take a picture
  with the cow.
DTSTART;TZID=America/New_York:20260716T110000
DTEND;TZID=America/New_York:20260716T113000
LOCATION:North River Library\, 118 Mt. Crawford Ave.\, Bridgewater\, VA 228
 12 US
SUMMARY:Story Time with the Chick-fil-A Cow @North River Library
END:VEVENT
END:VCALENDAR
