BEGIN:VCALENDAR
VERSION:2.0
PRODID:-//mrlib.org//NONSGML kigkonsult.se iCalcreator 2.30.10//
CALSCALE:GREGORIAN
METHOD:PUBLISH
UID:b655bdc8-2997-4042-b622-e802acb67e0c
X-WR-CALDESC:Shake out your sillies at this story time for ages 0-2 years. 
 Come explore new books and learn simple songs and nursey rhymes to enhance
  early literacy development.
X-WR-RELCALID:5c89dfdd23a30ef1661e505dd95a3fbe
X-WR-TIMEZONE:America/New_York
BEGIN:VTIMEZONE
TZID:America/New_York
BEGIN:STANDARD
TZNAME:EST
DTSTART:20251102T020000
TZOFFSETFROM:-0400
TZOFFSETTO:-0500
RDATE:20261101T020000
RDATE:20271107T020000
END:STANDARD
BEGIN:DAYLIGHT
TZNAME:EDT
DTSTART:20260308T020000
TZOFFSETFROM:-0500
TZOFFSETTO:-0400
RDATE:20270314T020000
END:DAYLIGHT
END:VTIMEZONE
BEGIN:VEVENT
UID:4be7fa1c-8ea3-4950-b649-e26478a01871
DTSTAMP:20260419T144539Z
DESCRIPTION:Shake out your sillies at this story time for ages 0-2 years. C
 ome explore new books and learn simple songs and nursey rhymes to enhance 
 early literacy development.
DTSTART;TZID=America/New_York:20260722T100000
DTEND;TZID=America/New_York:20260722T103000
LOCATION:Central Library\, 174 S. Main St.\, Harrisonburg\, VA 22801 US
SUMMARY:Babies\, Books\, and Movement @ Central Library
END:VEVENT
END:VCALENDAR
