BEGIN:VCALENDAR
VERSION:2.0
PRODID:-//mrlib.org//NONSGML kigkonsult.se iCalcreator 2.30.10//
CALSCALE:GREGORIAN
METHOD:PUBLISH
UID:9d73d85c-e99a-4c45-95c2-3c8313c99220
X-WR-CALDESC:Children of all ages and their caregivers participate in a spe
 cial story time filled with stories\, music\, movement\, conversation\, le
 arning\, and fun! \n
X-WR-RELCALID:bac4effa36ce048e6676ee3cbc2a224f
X-WR-TIMEZONE:America/New_York
BEGIN:VTIMEZONE
TZID:America/New_York
BEGIN:STANDARD
TZNAME:EST
DTSTART:20251102T020000
TZOFFSETFROM:-0400
TZOFFSETTO:-0500
RDATE:20261101T020000
RDATE:20271107T020000
END:STANDARD
BEGIN:DAYLIGHT
TZNAME:EDT
DTSTART:20260308T020000
TZOFFSETFROM:-0500
TZOFFSETTO:-0400
RDATE:20270314T020000
END:DAYLIGHT
END:VTIMEZONE
BEGIN:VEVENT
UID:cf8f432f-8233-435d-83e0-839ec0554efa
DTSTAMP:20260419T145021Z
DESCRIPTION:Children of all ages and their caregivers participate in a spec
 ial story time filled with stories\, music\, movement\, conversation\, lea
 rning\, and fun! \n
DTSTART;TZID=America/New_York:20260722T100000
DTEND;TZID=America/New_York:20260722T103000
LOCATION:Grottoes Branch Library\, 601 Dogwood Avenue\, Grottoes\, VA 24441
  US
SUMMARY:CircleTime @Grottoes Branch Library
END:VEVENT
END:VCALENDAR
