BEGIN:VCALENDAR
VERSION:2.0
PRODID:-//mrlib.org//NONSGML kigkonsult.se iCalcreator 2.30.10//
CALSCALE:GREGORIAN
METHOD:PUBLISH
UID:c3fb2922-d554-40d1-ad54-4bd47dd17113
X-WR-CALDESC:2-3 year olds and their caregivers are invited to join us for 
 a fun filled story time complete with books\, nursery rhymes\, songs\, and
  crafts designed to strengthen early literacy development.
X-WR-RELCALID:d04d2867a4d11cf5547a089d03f76b4b
X-WR-TIMEZONE:America/New_York
BEGIN:VTIMEZONE
TZID:America/New_York
BEGIN:STANDARD
TZNAME:EST
DTSTART:20251102T020000
TZOFFSETFROM:-0400
TZOFFSETTO:-0500
RDATE:20261101T020000
RDATE:20271107T020000
END:STANDARD
BEGIN:DAYLIGHT
TZNAME:EDT
DTSTART:20260308T020000
TZOFFSETFROM:-0500
TZOFFSETTO:-0400
RDATE:20270314T020000
END:DAYLIGHT
END:VTIMEZONE
BEGIN:VEVENT
UID:b5dde1b0-3269-4497-aec1-fad0fa8d85f5
DTSTAMP:20260419T144730Z
DESCRIPTION:2-3 year olds and their caregivers are invited to join us for a
  fun filled story time complete with books\, nursery rhymes\, songs\, and 
 crafts designed to strengthen early literacy development.
DTSTART;TZID=America/New_York:20260730T110000
DTEND;TZID=America/New_York:20260730T113000
LOCATION:174 S. Main St.\, Harrisonburg\, VA 22801 US
SUMMARY:Tremendous Toddlers @ Central Library
END:VEVENT
END:VCALENDAR
