BEGIN:VCALENDAR
VERSION:2.0
PRODID:-//mrlib.org//NONSGML kigkonsult.se iCalcreator 2.30.10//
CALSCALE:GREGORIAN
METHOD:PUBLISH
UID:756a4fb4-7224-4f94-a500-e20e60fd7d4a
X-WR-CALDESC:All MRL locations are on a Story Time planning break. We'll se
 e you the week of August 17th!
X-WR-RELCALID:760c84601c47dfbb6b375dfb0014698b
X-WR-TIMEZONE:America/New_York
BEGIN:VTIMEZONE
TZID:America/New_York
BEGIN:STANDARD
TZNAME:EST
DTSTART:20251102T020000
TZOFFSETFROM:-0400
TZOFFSETTO:-0500
RDATE:20261101T020000
RDATE:20271107T020000
END:STANDARD
BEGIN:DAYLIGHT
TZNAME:EDT
DTSTART:20260308T020000
TZOFFSETFROM:-0500
TZOFFSETTO:-0400
RDATE:20270314T020000
END:DAYLIGHT
END:VTIMEZONE
BEGIN:VEVENT
UID:a827597a-c423-4f3f-83d7-06cce2b476c2
DTSTAMP:20260419T162949Z
DESCRIPTION:All MRL locations are on a Story Time planning break. We'll see
  you the week of August 17th!
DTSTART;TZID=America/New_York:20260803T060000
DTEND;TZID=America/New_York:20260815T060001
LOCATION:
SUMMARY:STORY TIME BREAK
END:VEVENT
END:VCALENDAR
