BEGIN:VCALENDAR
VERSION:2.0
PRODID:-//mrlib.org//NONSGML kigkonsult.se iCalcreator 2.30.10//
CALSCALE:GREGORIAN
METHOD:PUBLISH
UID:5f5d9903-d6b7-4294-af46-b639b5ddd5d3
X-WR-CALDESC:A lively story time for children birth to 5 years filled with 
 stories\, songs\, and activities to help your child grow. We will actively
  use our eyes\, ears\, mouth\, hands\, and sometimes our whole bodies to p
 articipate in this fun story time!
X-WR-RELCALID:280bc46692421be4bef8d96276eb43ff
X-WR-TIMEZONE:America/New_York
BEGIN:VTIMEZONE
TZID:America/New_York
BEGIN:STANDARD
TZNAME:EST
DTSTART:20251102T020000
TZOFFSETFROM:-0400
TZOFFSETTO:-0500
RDATE:20261101T020000
RDATE:20271107T020000
END:STANDARD
BEGIN:DAYLIGHT
TZNAME:EDT
DTSTART:20260308T020000
TZOFFSETFROM:-0500
TZOFFSETTO:-0400
RDATE:20270314T020000
END:DAYLIGHT
END:VTIMEZONE
BEGIN:VEVENT
UID:d1961b09-15d7-412c-99b9-3b2837649cbb
DTSTAMP:20260419T163158Z
DESCRIPTION:A lively story time for children birth to 5 years filled with s
 tories\, songs\, and activities to help your child grow. We will actively 
 use our eyes\, ears\, mouth\, hands\, and sometimes our whole bodies to pa
 rticipate in this fun story time!
DTSTART;TZID=America/New_York:20260817T101500
DTEND;TZID=America/New_York:20260817T104500
LOCATION:Central Library\, 174 S. Main St.\, Harrisonburg\, VA 22801 US
SUMMARY:Stories\, Rhymes\, & Movement @ Central Library
END:VEVENT
END:VCALENDAR
