BEGIN:VCALENDAR
VERSION:2.0
PRODID:-//mrlib.org//NONSGML kigkonsult.se iCalcreator 2.30.10//
CALSCALE:GREGORIAN
METHOD:PUBLISH
UID:84f7f876-56f2-40b4-9ba0-2db340b00bc6
X-WR-CALDESC:Children of all ages and their caregivers participate in a spe
 cial story time filled with stories\, music\, movement\, conversation\, le
 arning\, and fun! \n
X-WR-RELCALID:7997b8c196e7065a6e8fc57d6c48f533
X-WR-TIMEZONE:America/New_York
BEGIN:VTIMEZONE
TZID:America/New_York
BEGIN:STANDARD
TZNAME:EST
DTSTART:20251102T020000
TZOFFSETFROM:-0400
TZOFFSETTO:-0500
RDATE:20261101T020000
RDATE:20271107T020000
END:STANDARD
BEGIN:DAYLIGHT
TZNAME:EDT
DTSTART:20260308T020000
TZOFFSETFROM:-0500
TZOFFSETTO:-0400
RDATE:20270314T020000
END:DAYLIGHT
END:VTIMEZONE
BEGIN:VEVENT
UID:8b1e8f9e-5078-4272-b32d-98bdb6b73840
DTSTAMP:20260419T164127Z
DESCRIPTION:Children of all ages and their caregivers participate in a spec
 ial story time filled with stories\, music\, movement\, conversation\, lea
 rning\, and fun! \n
DTSTART;TZID=America/New_York:20260819T100000
DTEND;TZID=America/New_York:20260819T103000
LOCATION:Grottoes Branch Library\, 601 Dogwood Avenue\, Grottoes\, VA 24441
  US
SUMMARY:CircleTime @Grottoes Branch Library
END:VEVENT
END:VCALENDAR
