BEGIN:VCALENDAR
VERSION:2.0
PRODID:-//mrlib.org//NONSGML kigkonsult.se iCalcreator 2.30.10//
CALSCALE:GREGORIAN
METHOD:PUBLISH
UID:7455c566-401c-4f96-bdc4-a693a8e40315
X-WR-CALDESC:2-3 year olds and their caregivers are invited to join us for 
 a fun filled story time complete with books\, nursery rhymes\, songs\, and
  crafts designed to strengthen early literacy development.
X-WR-RELCALID:2fa3ed2b4a91e80b945129c1770be7eb
X-WR-TIMEZONE:America/New_York
BEGIN:VTIMEZONE
TZID:America/New_York
BEGIN:STANDARD
TZNAME:EST
DTSTART:20251102T020000
TZOFFSETFROM:-0400
TZOFFSETTO:-0500
RDATE:20261101T020000
RDATE:20271107T020000
END:STANDARD
BEGIN:DAYLIGHT
TZNAME:EDT
DTSTART:20260308T020000
TZOFFSETFROM:-0500
TZOFFSETTO:-0400
RDATE:20270314T020000
END:DAYLIGHT
END:VTIMEZONE
BEGIN:VEVENT
UID:f69aa82e-67e9-410e-bebe-c7bfbeb4c8b8
DTSTAMP:20260419T163749Z
DESCRIPTION:2-3 year olds and their caregivers are invited to join us for a
  fun filled story time complete with books\, nursery rhymes\, songs\, and 
 crafts designed to strengthen early literacy development.
DTSTART;TZID=America/New_York:20260820T110000
DTEND;TZID=America/New_York:20260820T113000
LOCATION:174 S. Main St.\, Harrisonburg\, VA 22801 US
SUMMARY:Tremendous Toddlers @ Central Library
END:VEVENT
END:VCALENDAR
