BEGIN:VCALENDAR
VERSION:2.0
PRODID:-//mrlib.org//NONSGML kigkonsult.se iCalcreator 2.30.10//
CALSCALE:GREGORIAN
METHOD:PUBLISH
UID:909ba9b4-2901-4723-a735-98e465ca4a40
X-WR-CALDESC:Children of all ages and their caregivers participate in a spe
 cial story time filled with stories\, music\, movement\, conversation\, le
 arning\, and fun! \n
X-WR-RELCALID:3fbb5e7f4c39fc0fffec88d3485b0a1b
X-WR-TIMEZONE:America/New_York
BEGIN:VTIMEZONE
TZID:America/New_York
BEGIN:STANDARD
TZNAME:EST
DTSTART:20251102T020000
TZOFFSETFROM:-0400
TZOFFSETTO:-0500
RDATE:20261101T020000
RDATE:20271107T020000
END:STANDARD
BEGIN:DAYLIGHT
TZNAME:EDT
DTSTART:20260308T020000
TZOFFSETFROM:-0500
TZOFFSETTO:-0400
RDATE:20270314T020000
END:DAYLIGHT
END:VTIMEZONE
BEGIN:VEVENT
UID:ce16d1ee-9308-4409-b5f2-38f53bdb091a
DTSTAMP:20260419T163922Z
DESCRIPTION:Children of all ages and their caregivers participate in a spec
 ial story time filled with stories\, music\, movement\, conversation\, lea
 rning\, and fun! \n
DTSTART;TZID=America/New_York:20260826T100000
DTEND;TZID=America/New_York:20260826T103000
LOCATION:Grottoes Branch Library\, 601 Dogwood Avenue\, Grottoes\, VA 24441
  US
SUMMARY:CircleTime @Grottoes Branch Library
END:VEVENT
END:VCALENDAR
