BEGIN:VCALENDAR
VERSION:2.0
PRODID:-//mrlib.org//NONSGML kigkonsult.se iCalcreator 2.30.10//
CALSCALE:GREGORIAN
METHOD:PUBLISH
UID:bcc1652d-796a-4328-bf60-ad98e1c2b8b2
X-WR-CALDESC:Children of all ages and their caregivers will enjoy books\, s
 ongs\, and crafts that encourage early literacy skill development!
X-WR-RELCALID:4cf27dd5ede9f299f40d1c377039502f
X-WR-TIMEZONE:America/New_York
BEGIN:VTIMEZONE
TZID:America/New_York
BEGIN:STANDARD
TZNAME:EST
DTSTART:20251102T020000
TZOFFSETFROM:-0400
TZOFFSETTO:-0500
RDATE:20261101T020000
RDATE:20271107T020000
END:STANDARD
BEGIN:DAYLIGHT
TZNAME:EDT
DTSTART:20260308T020000
TZOFFSETFROM:-0500
TZOFFSETTO:-0400
RDATE:20270314T020000
RDATE:20280312T020000
END:DAYLIGHT
END:VTIMEZONE
BEGIN:VEVENT
UID:e9918662-88d8-4544-b163-2496278a5a31
DTSTAMP:20260419T181634Z
DESCRIPTION:Children of all ages and their caregivers will enjoy books\, so
 ngs\, and crafts that encourage early literacy skill development!
DTSTART;TZID=America/New_York:20260914T103000
DTEND;TZID=America/New_York:20260914T110000
LOCATION:Elkton Community Library\, 106 North Terrace Avenue\, Elkton\, VA 
 22827 US
SUMMARY:Fantastic Family Fun @Elkton Community Library
END:VEVENT
END:VCALENDAR
