BEGIN:VCALENDAR
VERSION:2.0
PRODID:-//mrlib.org//NONSGML kigkonsult.se iCalcreator 2.30.10//
CALSCALE:GREGORIAN
METHOD:PUBLISH
UID:de6373ff-8cc0-4022-9159-460a84315b53
X-WR-CALDESC:2-3 year olds and their caregivers are invited to join us for 
 a fun filled story time complete with books\, nursery rhymes\, songs\, and
  crafts designed to strengthen early literacy development.
X-WR-RELCALID:ab544e0972af447be04783b8bd411cba
X-WR-TIMEZONE:America/New_York
BEGIN:VTIMEZONE
TZID:America/New_York
BEGIN:STANDARD
TZNAME:EST
DTSTART:20251102T020000
TZOFFSETFROM:-0400
TZOFFSETTO:-0500
RDATE:20261101T020000
RDATE:20271107T020000
END:STANDARD
BEGIN:DAYLIGHT
TZNAME:EDT
DTSTART:20260308T020000
TZOFFSETFROM:-0500
TZOFFSETTO:-0400
RDATE:20270314T020000
RDATE:20280312T020000
END:DAYLIGHT
END:VTIMEZONE
BEGIN:VEVENT
UID:b70f837a-a6b0-4218-a277-04022fdec57a
DTSTAMP:20260419T180956Z
DESCRIPTION:2-3 year olds and their caregivers are invited to join us for a
  fun filled story time complete with books\, nursery rhymes\, songs\, and 
 crafts designed to strengthen early literacy development.
DTSTART;TZID=America/New_York:20260917T110000
DTEND;TZID=America/New_York:20260917T113000
LOCATION:174 S. Main St.\, Harrisonburg\, VA 22801 US
SUMMARY:Tremendous Toddlers @ Central Library
END:VEVENT
END:VCALENDAR
