BEGIN:VCALENDAR
VERSION:2.0
PRODID:-//mrlib.org//NONSGML kigkonsult.se iCalcreator 2.30.10//
CALSCALE:GREGORIAN
METHOD:PUBLISH
UID:9ca2955a-7fa6-483e-b28c-a85a99e27f22
X-WR-CALDESC:K-5 kids can join us on the 4th Thursday of every month for Cr
 afty Kids! Use your imagination to create a different craft at each progra
 m.
X-WR-RELCALID:9f96451a3c750f06de56c3b0f7262f17
X-WR-TIMEZONE:America/New_York
BEGIN:VTIMEZONE
TZID:America/New_York
BEGIN:STANDARD
TZNAME:EST
DTSTART:20251102T020000
TZOFFSETFROM:-0400
TZOFFSETTO:-0500
RDATE:20261101T020000
RDATE:20271107T020000
END:STANDARD
BEGIN:DAYLIGHT
TZNAME:EDT
DTSTART:20260308T020000
TZOFFSETFROM:-0500
TZOFFSETTO:-0400
RDATE:20270314T020000
RDATE:20280312T020000
END:DAYLIGHT
END:VTIMEZONE
BEGIN:VEVENT
UID:52ad5993-aa32-4014-aaa4-60a8eafc5ede
DTSTAMP:20260419T182907Z
DESCRIPTION:K-5 kids can join us on the 4th Thursday of every month for Cra
 fty Kids! Use your imagination to create a different craft at each program
 .
DTSTART;TZID=America/New_York:20260924T160000
DTEND;TZID=America/New_York:20260924T170000
LOCATION:Grottoes Branch Library\, 601 Dogwood Avenue\, Grottoes\, VA 24441
  US
SUMMARY:Crafty Kids @Grottoes Branch Library
END:VEVENT
END:VCALENDAR
