BEGIN:VCALENDAR
VERSION:2.0
PRODID:-//mrlib.org//NONSGML kigkonsult.se iCalcreator 2.30.10//
CALSCALE:GREGORIAN
METHOD:PUBLISH
UID:3d60edb8-0218-4fce-974a-1200b8087f76
X-WR-CALDESC:Dogs are wonderful listeners and love to hear stories! Dogs 2 
 Read 2 is a great chance for kids in grades K-5 to practice their reading 
 skills with some wonderful and well-behaved pups. \n\n*All Dogs 2 Read 2 p
 ups are trained and certified through the Alliance of Therapy Dogs*
X-WR-RELCALID:8be937ba69505d1eae6a309b46aeb11e
X-WR-TIMEZONE:America/New_York
BEGIN:VTIMEZONE
TZID:America/New_York
BEGIN:STANDARD
TZNAME:EST
DTSTART:20251102T020000
TZOFFSETFROM:-0400
TZOFFSETTO:-0500
RDATE:20261101T020000
RDATE:20271107T020000
END:STANDARD
BEGIN:DAYLIGHT
TZNAME:EDT
DTSTART:20260308T020000
TZOFFSETFROM:-0500
TZOFFSETTO:-0400
RDATE:20270314T020000
RDATE:20280312T020000
END:DAYLIGHT
END:VTIMEZONE
BEGIN:VEVENT
UID:3f776403-48ce-4e0b-98de-8e607144f521
DTSTAMP:20260419T181052Z
DESCRIPTION:Dogs are wonderful listeners and love to hear stories! Dogs 2 R
 ead 2 is a great chance for kids in grades K-5 to practice their reading s
 kills with some wonderful and well-behaved pups. \n\n*All Dogs 2 Read 2 pu
 ps are trained and certified through the Alliance of Therapy Dogs*
DTSTART;TZID=America/New_York:20260924T163000
DTEND;TZID=America/New_York:20260924T173000
LOCATION:Central Library\, 174 S. Main Street\, Harrisonburg\, VA 22801 US
SUMMARY:Dogs 2 Read 2 @Central Library
END:VEVENT
END:VCALENDAR
