BEGIN:VCALENDAR
VERSION:2.0
PRODID:-//mrlib.org//NONSGML kigkonsult.se iCalcreator 2.30.10//
CALSCALE:GREGORIAN
METHOD:PUBLISH
UID:853184f0-57bb-4839-aa7c-aa8fec4c09b1
X-WR-CALDESC:Stop by Central Library's Book Sale and directly support our n
 onprofit mission! \n\nThursday: 10AM-6PM\nFriday: Noon - 3PM\nSaturday: No
 on- 3PM\n\nAdult Books $1 each\; children's titles $.25 each - cash and cr
 edit card accepted.
X-WR-RELCALID:0c1773d96a55687db955c47b345ea6b2
X-WR-TIMEZONE:America/New_York
BEGIN:VTIMEZONE
TZID:America/New_York
BEGIN:STANDARD
TZNAME:EST
DTSTART:20251102T020000
TZOFFSETFROM:-0400
TZOFFSETTO:-0500
RDATE:20261101T020000
RDATE:20271107T020000
END:STANDARD
BEGIN:DAYLIGHT
TZNAME:EDT
DTSTART:20260308T020000
TZOFFSETFROM:-0500
TZOFFSETTO:-0400
RDATE:20270314T020000
RDATE:20280312T020000
END:DAYLIGHT
END:VTIMEZONE
BEGIN:VEVENT
UID:c92cffc2-dbde-47d6-bcfc-0aa05f0badf0
DTSTAMP:20260419T180707Z
DESCRIPTION:Stop by Central Library's Book Sale and directly support our no
 nprofit mission! \n\nThursday: 10AM-6PM\nFriday: Noon - 3PM\nSaturday: Noo
 n- 3PM\n\nAdult Books $1 each\; children's titles $.25 each - cash and cre
 dit card accepted.
DTSTART;TZID=America/New_York:20260924T060000
DTEND;TZID=America/New_York:20260926T060001
LOCATION:Central Library\, 174 S. Main Street\, Harrisonburg\, VA 22801 US
SUMMARY:Book Sale @Central Library
END:VEVENT
END:VCALENDAR
