BEGIN:VCALENDAR
VERSION:2.0
PRODID:-//mrlib.org//NONSGML kigkonsult.se iCalcreator 2.30.10//
CALSCALE:GREGORIAN
METHOD:PUBLISH
UID:f2b38a0f-eedc-416c-a300-5c1a50d274d7
X-WR-CALDESC:Children of all ages and their caregivers will enjoy books\, s
 ongs\, and crafts that encourage early literacy skill development!
X-WR-RELCALID:96e3982f4c122481589623c8fd932710
X-WR-TIMEZONE:America/New_York
BEGIN:VTIMEZONE
TZID:America/New_York
BEGIN:STANDARD
TZNAME:EST
DTSTART:20251102T020000
TZOFFSETFROM:-0400
TZOFFSETTO:-0500
RDATE:20261101T020000
RDATE:20271107T020000
END:STANDARD
BEGIN:DAYLIGHT
TZNAME:EDT
DTSTART:20260308T020000
TZOFFSETFROM:-0500
TZOFFSETTO:-0400
RDATE:20270314T020000
RDATE:20280312T020000
END:DAYLIGHT
END:VTIMEZONE
BEGIN:VEVENT
UID:d15ea574-aff0-42c8-bf50-ed04cd57f9fa
DTSTAMP:20260419T184142Z
DESCRIPTION:Children of all ages and their caregivers will enjoy books\, so
 ngs\, and crafts that encourage early literacy skill development!
DTSTART;TZID=America/New_York:20260928T103000
DTEND;TZID=America/New_York:20260928T110000
LOCATION:Elkton Community Library\, 106 North Terrace Avenue\, Elkton\, VA 
 22827 US
SUMMARY:Fantastic Family Fun @Elkton Community Library
END:VEVENT
END:VCALENDAR
